BEGIN:VCALENDAR
VERSION:2.0
PRODID:-// - ECPv6.15.18//NONSGML v1.0//EN
CALSCALE:GREGORIAN
METHOD:PUBLISH
X-ORIGINAL-URL:https://socalaca.org
X-WR-CALDESC:Events for 
REFRESH-INTERVAL;VALUE=DURATION:PT1H
X-Robots-Tag:noindex
X-PUBLISHED-TTL:PT1H
BEGIN:VTIMEZONE
TZID:UTC
BEGIN:STANDARD
TZOFFSETFROM:+0000
TZOFFSETTO:+0000
TZNAME:UTC
DTSTART:20160101T000000
END:STANDARD
END:VTIMEZONE
BEGIN:VEVENT
DTSTART;TZID=UTC:20170827T130000
DTEND;TZID=UTC:20170827T153000
DTSTAMP:20260422T071250
CREATED:20170408T044859Z
LAST-MODIFIED:20171102T000331Z
UID:1060-1503838800-1503847800@socalaca.org
SUMMARY:Orange County – Fall Mountain Retreat (Camp de Benneville Pines) – Committee Meeting
DESCRIPTION:Fall Mountain Retreat Committee Meeting. \nSunday August 27th\, from 1:00PM to 3:30PM \nKaiser Permanete Health Pavilion\nBuilding 1\, Room 105\n200 North Lewis Street\, Orange County\, CA 92868\nPhone: 562-367-4325\nEmail: acafallmountainretreat@gmail.com \nThere are 3 Buildings in this office park. You want to go to Building 1.\nBuilding Number 1\, Room 105 (Go through the front door of Building 1 and Room 105 will be on your immediate left). \nThere is free parking outside of Building Number 1.\nThere should be a hospital security guard in Building 1\, on duty\, to assist.\nClosest major cross street is Chapman Avenue.
URL:https://socalaca.org/event/orange-county-fall-mountain-retreat-camp-de-benneville-pines-committee-meeting-6/
LOCATION:Kaiser Permanente â€“ N. Lewis -Orange\, 200 North Lewis Street\, Orange\, CA\, 92868\, United States
CATEGORIES:FMR Committee Meeting
ORGANIZER;CN="Orange County ACA - FMR":MAILTO:ACAFallMountainRetreat@gmail.com
END:VEVENT
BEGIN:VEVENT
DTSTART;TZID=UTC:20170723T130000
DTEND;TZID=UTC:20170723T153000
DTSTAMP:20260422T071250
CREATED:20170408T044719Z
LAST-MODIFIED:20171102T000442Z
UID:1058-1500814800-1500823800@socalaca.org
SUMMARY:Orange County – Fall Mountain Retreat (Camp de Benneville Pines) – Committee Meeting
DESCRIPTION:Fall Mountain Retreat Committee Meeting. \nSunday July 23rd\, from 1:00PM to 3:30PM \nKaiser Permanete Health Pavilion\nBuilding 1\, Room 105\n200 North Lewis Street\, Orange County\, CA 92868\nPhone: 562-367-4325\nEmail: acafallmountainretreat@gmail.com \nThere are 3 Buildings in this office park. You want to go to Building 1.\nBuilding Number 1\, Room 105 (Go through the front door of Building 1 and Room 105 will be on your immediate left). \nThere is free parking outside of Building Number 1.\nThere should be a hospital security guard in Building 1\, on duty\, to assist.\nClosest major cross street is Chapman Avenue.
URL:https://socalaca.org/event/orange-county-fall-mountain-retreat-camp-de-benneville-pines-committee-meeting-5/
LOCATION:Kaiser Permanente â€“ N. Lewis -Orange\, 200 North Lewis Street\, Orange\, CA\, 92868\, United States
CATEGORIES:FMR Committee Meeting
ORGANIZER;CN="Orange County ACA - FMR":MAILTO:ACAFallMountainRetreat@gmail.com
END:VEVENT
BEGIN:VEVENT
DTSTART;TZID=UTC:20170625T130000
DTEND;TZID=UTC:20170625T153000
DTSTAMP:20260422T071250
CREATED:20170408T044519Z
LAST-MODIFIED:20171102T000610Z
UID:1056-1498395600-1498404600@socalaca.org
SUMMARY:Orange County – Fall Mountain Retreat (Camp de Benneville Pines) – Committee Meeting
DESCRIPTION:Fall Mountain Retreat Committee Meeting. \nSunday June 25th\, from 1:00PM to 3:30PM \nKaiser Permanete Health Pavilion\nBuilding 1\, Room 105\n200 North Lewis Street\, Orange County\, CA 92868\nPhone: 562-367-4325\nEmail: acafallmountainretreat@gmail.com \nThere are 3 Buildings in this office park. You want to go to Building 1.\nBuilding Number 1\, Room 105 (Go through the front door of Building 1 and Room 105 will be on your immediate left). \nThere is free parking outside of Building Number 1.\nThere should be a hospital security guard in Building 1\, on duty\, to assist.\nClosest major cross street is Chapman Avenue.
URL:https://socalaca.org/event/orange-county-fall-mountain-retreat-camp-de-benneville-pines-committee-meeting-4/
LOCATION:Kaiser Permanente â€“ N. Lewis -Orange\, 200 North Lewis Street\, Orange\, CA\, 92868\, United States
CATEGORIES:FMR Committee Meeting
ORGANIZER;CN="Orange County ACA - FMR":MAILTO:ACAFallMountainRetreat@gmail.com
END:VEVENT
BEGIN:VEVENT
DTSTART;TZID=UTC:20170528T130000
DTEND;TZID=UTC:20170528T153000
DTSTAMP:20260422T071250
CREATED:20170408T044328Z
LAST-MODIFIED:20171102T000837Z
UID:1054-1495976400-1495985400@socalaca.org
SUMMARY:Orange County – Fall Mountain Retreat (Camp de Benneville Pines) – Committee Meeting
DESCRIPTION:Fall Mountain Retreat Committee Meeting. \nSunday May 28th\, from 1:00PM to 3:30PM \nKaiser Permanete Health Pavilion\nBuilding 1\, Room 105\n200 North Lewis Street\, Orange County\, CA 92868\nPhone: 562-367-4325\nEmail: acafallmountainretreat@gmail.com \nThere are 3 Buildings in this office park. You want to go to Building 1.\nBuilding Number 1\, Room 105 (Go through the front door of Building 1 and Room 105 will be on your immediate left). \nThere is free parking outside of Building Number 1.\nThere should be a hospital security guard in Building 1\, on duty\, to assist.
URL:https://socalaca.org/event/orange-county-fall-mountain-retreat-camp-de-benneville-pines-committee-meeting-3/
LOCATION:Kaiser Permanente â€“ N. Lewis -Orange\, 200 North Lewis Street\, Orange\, CA\, 92868\, United States
CATEGORIES:FMR Committee Meeting
ORGANIZER;CN="Orange County ACA - FMR":MAILTO:ACAFallMountainRetreat@gmail.com
END:VEVENT
BEGIN:VEVENT
DTSTART;TZID=UTC:20170423T130000
DTEND;TZID=UTC:20170423T153000
DTSTAMP:20260422T071250
CREATED:20170331T044322Z
LAST-MODIFIED:20171102T001031Z
UID:1025-1492952400-1492961400@socalaca.org
SUMMARY:Orange County – Fall Mountain Retreat (Camp de Benneville Pines) – Committee Meeting
DESCRIPTION:Fall Mountain Retreat Committee Meeting. \nSunday April 23rd\, from 1:00PM to 3:30PM \nKaiser Permanete Health Pavilion\nBuilding 1\, Room 105\n200 North Lewis Street\, Orange County\, CA 92868\nPhone: 562-367-4325\nEmail: acafallmountainretreat@gmail.com \nThere are 3 Buildings in this office park. You want to go to Building 1.\nBuilding Number 1\, Room 105 (Go through the front door of Building 1 and Room 105 will be on your immediate left). \nThere is free parking outside of Building Number 1.\nThere should be a hospital security guard in Building 1\, on duty\, to assist.\nClosest major cross street is Chapman Avenue.
URL:https://socalaca.org/event/orange-county-fall-mountain-retreat-camp-de-benneville-pines-committee-meeting-2/
LOCATION:Kaiser Permanente â€“ N. Lewis -Orange\, 200 North Lewis Street\, Orange\, CA\, 92868\, United States
CATEGORIES:FMR Committee Meeting
ORGANIZER;CN="Orange County ACA - FMR":MAILTO:ACAFallMountainRetreat@gmail.com
END:VEVENT
BEGIN:VEVENT
DTSTART;TZID=UTC:20170326T130000
DTEND;TZID=UTC:20170326T153000
DTSTAMP:20260422T071250
CREATED:20170321T142549Z
LAST-MODIFIED:20171102T001338Z
UID:997-1490533200-1490542200@socalaca.org
SUMMARY:Orange County - Fall Mountain Retreat (Camp de Benneville Pines) - Committee Meeting
DESCRIPTION:Fall Mountain Retreat Committee Meeting. \nSunday March 26th\, at 1:00PM to 3:30PM \nKaiser Permanete Health Pavilion\nBuilding 1\, Room 105\n200 North Lewis Street\, Orange County\, CA 92868\nPhone: 562-367-4325\nEmail: acafallmountainretreat@gmail.com \nBuilding Number 1\, Room 105 (Go through the front door of Building 1 and Room 105 will be on your immediate left). \nThere is free parking outside of Building Number 1.\nThere should be a hospital security guard in Building 1 on duty to assist.\nClosest major cross street is Chapman Avenue.
URL:https://socalaca.org/event/orange-county-fall-mountain-retreat-camp-de-benneville-pines-committee-meeting/
LOCATION:Kaiser Permanente â€“ Orange\, 200 North Lewis Street\, Orange\, CA\, 92868\, United States
CATEGORIES:FMR Committee Meeting
ORGANIZER;CN="Orange County ACA - FMR":MAILTO:ACAFallMountainRetreat@gmail.com
END:VEVENT
END:VCALENDAR