BEGIN:VCALENDAR
VERSION:2.0
PRODID:-// - ECPv6.15.18//NONSGML v1.0//EN
CALSCALE:GREGORIAN
METHOD:PUBLISH
X-ORIGINAL-URL:https://socalaca.org
X-WR-CALDESC:Events for 
REFRESH-INTERVAL;VALUE=DURATION:PT1H
X-Robots-Tag:noindex
X-PUBLISHED-TTL:PT1H
BEGIN:VTIMEZONE
TZID:America/Los_Angeles
BEGIN:DAYLIGHT
TZOFFSETFROM:-0800
TZOFFSETTO:-0700
TZNAME:PDT
DTSTART:20170312T100000
END:DAYLIGHT
BEGIN:STANDARD
TZOFFSETFROM:-0700
TZOFFSETTO:-0800
TZNAME:PST
DTSTART:20171105T090000
END:STANDARD
BEGIN:DAYLIGHT
TZOFFSETFROM:-0800
TZOFFSETTO:-0700
TZNAME:PDT
DTSTART:20180311T100000
END:DAYLIGHT
BEGIN:STANDARD
TZOFFSETFROM:-0700
TZOFFSETTO:-0800
TZNAME:PST
DTSTART:20181104T090000
END:STANDARD
BEGIN:DAYLIGHT
TZOFFSETFROM:-0800
TZOFFSETTO:-0700
TZNAME:PDT
DTSTART:20190310T100000
END:DAYLIGHT
BEGIN:STANDARD
TZOFFSETFROM:-0700
TZOFFSETTO:-0800
TZNAME:PST
DTSTART:20191103T090000
END:STANDARD
END:VTIMEZONE
BEGIN:VEVENT
DTSTART;TZID=America/Los_Angeles:20180512T103000
DTEND;TZID=America/Los_Angeles:20180512T130000
DTSTAMP:20260424T005938
CREATED:20180509T042937Z
LAST-MODIFIED:20180509T043718Z
UID:3165-1526121000-1526130000@socalaca.org
SUMMARY:Chapter 8 - ACA Workshop - The Next Step
DESCRIPTION:ACA Workshop \nChapter 8 \nThe Next Step \nThe Solution: \nBecoming Your Own Loving Parent \nA Workshop on Learning How to Love Yourself \nMay 12th\, 2018 \nGood Shepard Luthern Church\n380 North Fairview Ave.\, Goleta\, CA\nFireside Room \n10:30AM – 1:00PM sharp \n(please arrive early) \nQuestions? Email: ch.8thenextstep@gmail.com \nPlease R.S.V.P. so we can be prepared with enough materials for everyone. \nSuggested donation: $5.00 (workshop\, materials\, room) \nNO ONE WILL BE TURNED AWAY FOR LACK OF DONATION. PLEASE COME. \nFellowship carpooling recommended.\nConsider staying after the workshop for fellowship and discussion about the workshop.
URL:https://socalaca.org/event/chapter-8-aca-workshop-the-next-step/
LOCATION:Good Shepard Luthern Church\, 380 North Fairview Ave.\, Goleta\, CA\, 93117\, United States
CATEGORIES:Workshop
ATTACH;FMTTYPE=image/jpeg:https://socalaca.org/wp-content/uploads/2018/05/Good_Shepard_Luthern_Church.jpg
END:VEVENT
END:VCALENDAR